0.250000
0.000000
0.000000
-0.250000
563010.125000
4735739.875000
