0.250000
0.000000
0.000000
-0.250000
559640.125000
4731079.875000
