0.250000
0.000000
0.000000
-0.250000
556250.125000
4728739.875000
