0.250000
0.000000
0.000000
-0.250000
552850.125000
4726399.875000
