0.250000
0.000000
0.000000
-0.250000
569750.125000
4742749.875000
