0.250000
0.000000
0.000000
-0.250000
579970.125000
4742869.875000
