0.250000
0.000000
0.000000
-0.250000
566370.125000
4740399.875000
