0.250000
0.000000
0.000000
-0.250000
580000.125000
4740549.875000
