0.250000
0.000000
0.000000
-0.250000
569800.125000
4738119.875000
