0.250000
0.000000
0.000000
-0.250000
573210.125000
4738159.875000
