0.250000
0.000000
0.000000
-0.250000
569830.125000
4735809.875000
