0.250000
0.000000
0.000000
-0.250000
576640.125000
4735889.875000
