0.250000
0.000000
0.000000
-0.250000
586870.125000
4736009.875000
