0.250000
0.000000
0.000000
-0.250000
586930.125000
4731389.875000
