0.250000
0.000000
0.000000
-0.250000
583540.125000
4729029.875000
