0.250000
0.000000
0.000000
-0.250000
573330.125000
4726589.875000
