0.250000
0.000000
0.000000
-0.250000
600400.125000
4743149.875000
