0.250000
0.000000
0.000000
-0.250000
597100.125000
4736149.875000
