0.250000
0.000000
0.000000
-0.250000
607320.125000
4736309.875000
