0.250000
0.000000
0.000000
-0.250000
603950.125000
4733939.875000
