0.250000
0.000000
0.000000
-0.250000
607360.125000
4733999.875000
