0.250000
0.000000
0.000000
-0.250000
617630.125000
4731859.875000
