0.250000
0.000000
0.000000
-0.250000
607430.125000
4729369.875000
