0.250000
0.000000
0.000000
-0.250000
637860.125000
4743809.875000
