0.250000
0.000000
0.000000
-0.250000
624280.125000
4741229.875000
