0.250000
0.000000
0.000000
-0.250000
641320.125000
4741569.875000
