0.250000
0.000000
0.000000
-0.250000
620920.125000
4738859.875000
