0.250000
0.000000
0.000000
-0.250000
631140.125000
4739049.875000
