0.250000
0.000000
0.000000
-0.250000
637960.125000
4739189.875000
