0.250000
0.000000
0.000000
-0.250000
638000.125000
4736869.875000
