0.250000
0.000000
0.000000
-0.250000
641460.125000
4734629.875000
