0.250000
0.000000
0.000000
-0.250000
631270.125000
4732109.875000
