0.250000
0.000000
0.000000
-0.250000
624490.125000
4729669.875000
