0.250000
0.000000
0.000000
-0.250000
627900.125000
4729729.875000
