0.250000
0.000000
0.000000
-0.250000
621120.125000
4727289.875000
