0.250000
0.000000
0.000000
-0.250000
641600.125000
4727689.875000
