0.250000
0.000000
0.000000
-0.250000
671920.125000
4744599.875000
