0.250000
0.000000
0.000000
-0.250000
661760.125000
4742029.875000
