0.250000
0.000000
0.000000
-0.250000
668570.125000
4742199.875000
