0.250000
0.000000
0.000000
-0.250000
648180.125000
4739399.875000
