0.250000
0.000000
0.000000
-0.250000
672030.125000
4739969.875000
