0.250000
0.000000
0.000000
-0.250000
648230.125000
4737089.875000
