0.250000
0.000000
0.000000
-0.250000
672090.125000
4737649.875000
