0.250000
0.000000
0.000000
-0.250000
662030.125000
4730459.875000
