0.250000
0.000000
0.000000
-0.250000
655250.125000
4727989.875000
