0.250000
0.000000
0.000000
-0.250000
675320.125000
4744679.875000
