0.250000
0.000000
0.000000
-0.250000
542640.125000
4721689.875000
