0.250000
0.000000
0.000000
-0.250000
556300.125000
4721799.875000
