0.250000
0.000000
0.000000
-0.250000
559740.125000
4719519.875000
