0.250000
0.000000
0.000000
-0.250000
556340.125000
4717169.875000
